############################################################################## ############################################################################## ### ### Running command: ### ### /Library/Frameworks/R.framework/Resources/bin/R CMD build --keep-empty-dirs --no-resave-data nondetects ### ############################################################################## ############################################################################## * checking for file ‘nondetects/DESCRIPTION’ ... OK * preparing ‘nondetects’: * checking DESCRIPTION meta-information ... OK * installing the package to build vignettes ----------------------------------- ERROR: dependency ‘HTqPCR’ is not available for package ‘nondetects’ Perhaps try a variation of: install.packages('HTqPCR') * removing ‘/private/var/folders/r0/l4fjk6cj5xj0j3brt4bplpl40000gt/T/RtmpkXLgWZ/Rinst5cfd3abc6f6b/nondetects’ ----------------------------------- ERROR: package installation failed