Package: nondetects Version: 2.41.0 Command: rm -rf nondetects.buildbin-libdir && mkdir nondetects.buildbin-libdir && /Users/biocbuild/BBS/utils/build-universal.sh nondetects_2.41.0.tar.gz /Library/Frameworks/R.framework/Resources/bin/R nondetects.buildbin-libdir StartedAt: 2025-11-21 23:43:15 -0500 (Fri, 21 Nov 2025) EndedAt: 2025-11-21 23:43:21 -0500 (Fri, 21 Nov 2025) EllapsedTime: 5.1 seconds RetCode: 0 Status: OK PackageFile: nondetects_2.41.0.tgz PackageFileSize: 169.1 KiB