Package: nnSVG Version: 1.13.1 Command: chmod a+r nnSVG -R && F:\biocbuild\bbs-3.22-bioc\R\bin\R.exe CMD build --keep-empty-dirs --no-resave-data nnSVG StartedAt: 2025-08-14 21:56:08 -0400 (Thu, 14 Aug 2025) EndedAt: 2025-08-14 22:07:12 -0400 (Thu, 14 Aug 2025) EllapsedTime: 663.3 seconds RetCode: 0 Status: OK PackageFile: nnSVG_1.13.1.tar.gz PackageFileSize: 451.9 KiB