Package: nnSVG Version: 1.13.1 Command: rm -rf nnSVG.buildbin-libdir && mkdir nnSVG.buildbin-libdir && F:\biocbuild\bbs-3.22-bioc\R\bin\R.exe CMD INSTALL --build --library=nnSVG.buildbin-libdir nnSVG_1.13.1.tar.gz StartedAt: 2025-08-15 10:51:07 -0400 (Fri, 15 Aug 2025) EndedAt: 2025-08-15 10:51:36 -0400 (Fri, 15 Aug 2025) EllapsedTime: 29.1 seconds RetCode: 0 Status: OK PackageFile: nnSVG_1.13.1.zip PackageFileSize: 467.3 KiB