Package: nnSVG Version: 1.13.1 Command: /home/biocbuild/bbs-3.22-bioc/R/bin/R CMD INSTALL nnSVG StartedAt: 2025-09-29 15:24:21 -0400 (Mon, 29 Sep 2025) EndedAt: 2025-09-29 15:24:54 -0400 (Mon, 29 Sep 2025) EllapsedTime: 32.9 seconds RetCode: 0 Status: OK