Package: nipalsMCIA Version: 1.7.0 Command: /home/biocbuild/bbs-3.22-bioc/R/bin/R CMD INSTALL nipalsMCIA StartedAt: 2025-07-24 15:26:07 -0400 (Thu, 24 Jul 2025) EndedAt: 2025-07-24 15:26:32 -0400 (Thu, 24 Jul 2025) EllapsedTime: 25.1 seconds RetCode: 0 Status: OK