Package: nipalsMCIA Version: 1.7.0 Command: /home/biocbuild/bbs-3.22-bioc/R/bin/R CMD build --keep-empty-dirs --no-resave-data --md5 nipalsMCIA StartedAt: 2025-07-24 18:27:51 -0400 (Thu, 24 Jul 2025) EndedAt: 2025-07-24 18:30:31 -0400 (Thu, 24 Jul 2025) EllapsedTime: 160.3 seconds RetCode: 0 Status: OK PackageFile: nipalsMCIA_1.7.0.tar.gz PackageFileSize: 3.145 MiB