Package: nipalsMCIA Version: 1.7.0 Command: /Library/Frameworks/R.framework/Resources/bin/R CMD build --keep-empty-dirs --no-resave-data nipalsMCIA StartedAt: 2025-05-09 17:13:42 -0400 (Fri, 09 May 2025) EndedAt: 2025-05-09 17:15:03 -0400 (Fri, 09 May 2025) EllapsedTime: 81.0 seconds RetCode: 0 Status: OK PackageFile: nipalsMCIA_1.7.0.tar.gz PackageFileSize: 3.785 MiB