Package: ngsReports Version: 2.11.0 Command: chmod a+r ngsReports -R && F:\biocbuild\bbs-3.22-bioc\R\bin\R.exe CMD build --keep-empty-dirs --no-resave-data ngsReports StartedAt: 2025-08-14 21:55:45 -0400 (Thu, 14 Aug 2025) EndedAt: 2025-08-14 21:57:32 -0400 (Thu, 14 Aug 2025) EllapsedTime: 107.1 seconds RetCode: 0 Status: OK PackageFile: ngsReports_2.11.0.tar.gz PackageFileSize: 1.602 MiB