Package: netresponse Version: 1.69.0 Command: rm -rf netresponse.buildbin-libdir && mkdir netresponse.buildbin-libdir && F:\biocbuild\bbs-3.22-bioc\R\bin\R.exe CMD INSTALL --build --library=netresponse.buildbin-libdir netresponse_1.69.0.tar.gz StartedAt: 2025-08-15 10:50:42 -0400 (Fri, 15 Aug 2025) EndedAt: 2025-08-15 10:51:59 -0400 (Fri, 15 Aug 2025) EllapsedTime: 76.8 seconds RetCode: 0 Status: OK PackageFile: netresponse_1.69.0.zip PackageFileSize: 1.299 MiB