Package: nethet Version: 1.41.0 Command: /Library/Frameworks/R.framework/Resources/bin/R CMD INSTALL nethet StartedAt: 2025-05-02 15:14:21 -0400 (Fri, 02 May 2025) EndedAt: 2025-05-02 15:14:48 -0400 (Fri, 02 May 2025) EllapsedTime: 27.0 seconds RetCode: 0 Status: OK