Package: nethet Version: 1.41.0 Command: /Library/Frameworks/R.framework/Resources/bin/R CMD INSTALL nethet StartedAt: 2025-05-06 15:10:16 -0400 (Tue, 06 May 2025) EndedAt: 2025-05-06 15:10:22 -0400 (Tue, 06 May 2025) EllapsedTime: 5.9 seconds RetCode: 0 Status: OK