Package: nethet Version: 1.41.0 Command: /Library/Frameworks/R.framework/Resources/bin/R CMD check --install=check:nethet.install-out.txt --library=/Library/Frameworks/R.framework/Resources/library --no-vignettes --timings nethet_1.41.0.tar.gz StartedAt: 2025-05-07 20:54:20 -0400 (Wed, 07 May 2025) EndedAt: 2025-05-07 20:55:53 -0400 (Wed, 07 May 2025) EllapsedTime: 92.2 seconds RetCode: 0 Status: WARNINGS CheckDir: nethet.Rcheck Warnings: 1