Package: netZooR Version: 1.11.0 Command: /home/biocbuild/R/R/bin/R CMD build --keep-empty-dirs --no-resave-data netZooR StartedAt: 2025-01-29 00:52:11 -0000 (Wed, 29 Jan 2025) EndedAt: 2025-01-29 00:54:35 -0000 (Wed, 29 Jan 2025) EllapsedTime: 144.2 seconds RetCode: 0 Status: OK PackageFile: netZooR_1.11.0.tar.gz PackageFileSize: 3.033 MiB