Package: netSmooth Version: 1.29.0 Command: /home/biocbuild/R/R/bin/R CMD INSTALL netSmooth StartedAt: 2025-10-23 21:22:13 -0000 (Thu, 23 Oct 2025) EndedAt: 2025-10-23 21:23:15 -0000 (Thu, 23 Oct 2025) EllapsedTime: 62.8 seconds RetCode: 0 Status: OK