Package: netSmooth Version: 1.29.0 Command: /home/biocbuild/R/R/bin/R CMD build --keep-empty-dirs --no-resave-data netSmooth StartedAt: 2025-10-21 01:42:58 -0000 (Tue, 21 Oct 2025) EndedAt: 2025-10-21 01:45:22 -0000 (Tue, 21 Oct 2025) EllapsedTime: 144.1 seconds RetCode: 0 Status: OK PackageFile: netSmooth_1.29.0.tar.gz PackageFileSize: 2.857 MiB