Package: netDx Version: 1.19.1 Command: /home/biocbuild/bbs-3.21-bioc/R/bin/R CMD INSTALL netDx StartedAt: 2025-02-03 16:07:44 -0500 (Mon, 03 Feb 2025) EndedAt: 2025-02-03 16:08:14 -0500 (Mon, 03 Feb 2025) EllapsedTime: 30.6 seconds RetCode: 0 Status: OK