Package: nempi Version: 1.17.0 Command: rm -rf nempi.buildbin-libdir && mkdir nempi.buildbin-libdir && F:\biocbuild\bbs-3.22-bioc\R\bin\R.exe CMD INSTALL --build --library=nempi.buildbin-libdir nempi_1.17.0.tar.gz StartedAt: 2025-08-15 10:50:17 -0400 (Fri, 15 Aug 2025) EndedAt: 2025-08-15 10:50:57 -0400 (Fri, 15 Aug 2025) EllapsedTime: 39.6 seconds RetCode: 0 Status: OK PackageFile: nempi_1.17.0.zip PackageFileSize: 426.2 KiB