Package: nempi Version: 1.17.0 Maintainer: Martin Pirkl MaintainerEmail: martinpirkl at yahoo.de git_url: https://git.bioconductor.org/packages/nempi git_branch: devel git_last_commit: 1e57bbc git_last_commit_date: 2025-04-15 12:16:07 -0400 (Tue, 15 Apr 2025)