Package: ndexr Version: 1.31.0 Command: rm -rf ndexr.buildbin-libdir && mkdir ndexr.buildbin-libdir && F:\biocbuild\bbs-3.22-bioc\R\bin\R.exe CMD INSTALL --build --library=ndexr.buildbin-libdir ndexr_1.31.0.tar.gz StartedAt: 2025-08-15 10:50:02 -0400 (Fri, 15 Aug 2025) EndedAt: 2025-08-15 10:50:35 -0400 (Fri, 15 Aug 2025) EllapsedTime: 33.2 seconds RetCode: 0 Status: OK PackageFile: ndexr_1.31.0.zip PackageFileSize: 621.5 KiB