Package: ndexr Version: 1.31.0 Maintainer: Florian Auer MaintainerEmail: florian.auer at informatik.uni-augsburg.de git_url: https://git.bioconductor.org/packages/ndexr git_branch: devel git_last_commit: 00bbe85 git_last_commit_date: 2025-04-15 11:11:22 -0400 (Tue, 15 Apr 2025)