Package: ncdfFlow Version: 2.55.0 Command: /home/biocbuild/R/R/bin/R CMD INSTALL ncdfFlow StartedAt: 2025-10-23 20:32:38 -0000 (Thu, 23 Oct 2025) EndedAt: 2025-10-23 20:32:55 -0000 (Thu, 23 Oct 2025) EllapsedTime: 17.2 seconds RetCode: 0 Status: OK