Package: ncdfFlow Version: 2.53.1 Command: /Library/Frameworks/R.framework/Resources/bin/R CMD INSTALL ncdfFlow StartedAt: 2025-02-16 15:12:39 -0500 (Sun, 16 Feb 2025) EndedAt: 2025-02-16 15:13:01 -0500 (Sun, 16 Feb 2025) EllapsedTime: 21.5 seconds RetCode: 0 Status: OK