Package: ncdfFlow Version: 2.53.1 Command: rm -rf ncdfFlow.buildbin-libdir && mkdir ncdfFlow.buildbin-libdir && /Users/biocbuild/BBS/utils/build-universal.sh ncdfFlow_2.53.1.tar.gz /Library/Frameworks/R.framework/Resources/bin/R ncdfFlow.buildbin-libdir StartedAt: 2025-02-17 00:32:56 -0500 (Mon, 17 Feb 2025) EndedAt: 2025-02-17 00:33:20 -0500 (Mon, 17 Feb 2025) EllapsedTime: 23.1 seconds RetCode: 0 Status: OK PackageFile: ncdfFlow_2.53.1.tgz PackageFileSize: 2.036 MiB