Package: ncRNAtools Version: 1.19.0 Command: /Library/Frameworks/R.framework/Resources/bin/R CMD INSTALL ncRNAtools StartedAt: 2025-05-08 15:16:06 -0400 (Thu, 08 May 2025) EndedAt: 2025-05-08 15:16:24 -0400 (Thu, 08 May 2025) EllapsedTime: 17.8 seconds RetCode: 0 Status: OK