Package: ncRNAtools Version: 1.19.0 Command: /Library/Frameworks/R.framework/Resources/bin/R CMD check --install=check:ncRNAtools.install-out.txt --library=/Library/Frameworks/R.framework/Resources/library --no-vignettes --timings ncRNAtools_1.19.0.tar.gz StartedAt: 2025-05-09 22:17:38 -0400 (Fri, 09 May 2025) EndedAt: 2025-05-09 22:19:51 -0400 (Fri, 09 May 2025) EllapsedTime: 133.5 seconds RetCode: 0 Status: OK CheckDir: ncRNAtools.Rcheck Warnings: 0