Package: ncRNAtools Version: 1.19.0 Command: /Library/Frameworks/R.framework/Resources/bin/R CMD build --keep-empty-dirs --no-resave-data ncRNAtools StartedAt: 2025-05-09 17:48:24 -0400 (Fri, 09 May 2025) EndedAt: 2025-05-09 17:49:31 -0400 (Fri, 09 May 2025) EllapsedTime: 66.3 seconds RetCode: 0 Status: OK PackageFile: ncRNAtools_1.19.0.tar.gz PackageFileSize: 318.2 KiB