Package: ncRNAtools Version: 1.19.0 Command: rm -rf ncRNAtools.buildbin-libdir && mkdir ncRNAtools.buildbin-libdir && /Users/biocbuild/BBS/utils/build-universal.sh ncRNAtools_1.19.0.tar.gz /Library/Frameworks/R.framework/Resources/bin/R ncRNAtools.buildbin-libdir StartedAt: 2025-05-09 22:49:45 -0400 (Fri, 09 May 2025) EndedAt: 2025-05-09 22:49:52 -0400 (Fri, 09 May 2025) EllapsedTime: 6.1 seconds RetCode: 0 Status: OK PackageFile: ncRNAtools_1.19.0.tgz PackageFileSize: 392.7 KiB