Package: ncGTW Version: 1.23.0 Command: /home/biocbuild/R/R/bin/R CMD build --keep-empty-dirs --no-resave-data ncGTW StartedAt: 2025-09-30 01:52:04 -0000 (Tue, 30 Sep 2025) EndedAt: 2025-09-30 01:56:03 -0000 (Tue, 30 Sep 2025) EllapsedTime: 239.1 seconds RetCode: 0 Status: OK PackageFile: ncGTW_1.23.0.tar.gz PackageFileSize: 1.862 MiB