Package: ncGTW Version: 1.23.0 Command: chmod a+r ncGTW -R && F:\biocbuild\bbs-3.22-bioc\R\bin\R.exe CMD build --keep-empty-dirs --no-resave-data ncGTW StartedAt: 2025-08-14 21:53:28 -0400 (Thu, 14 Aug 2025) EndedAt: 2025-08-14 21:58:20 -0400 (Thu, 14 Aug 2025) EllapsedTime: 291.7 seconds RetCode: 0 Status: OK PackageFile: ncGTW_1.23.0.tar.gz PackageFileSize: 1.646 MiB