Package: ncGTW Version: 1.23.0 Command: /Library/Frameworks/R.framework/Resources/bin/R CMD build --keep-empty-dirs --no-resave-data ncGTW StartedAt: 2025-05-02 17:42:11 -0400 (Fri, 02 May 2025) EndedAt: 2025-05-02 17:42:12 -0400 (Fri, 02 May 2025) EllapsedTime: 1.2 seconds RetCode: 1 Status: ERROR PackageFile: None PackageFileSize: NA