Package: mzR Version: 2.43.1 Command: rm -rf mzR.buildbin-libdir && mkdir mzR.buildbin-libdir && F:\biocbuild\bbs-3.22-bioc\R\bin\R.exe CMD INSTALL --build --library=mzR.buildbin-libdir mzR_2.43.1.tar.gz StartedAt: 2025-08-15 10:49:17 -0400 (Fri, 15 Aug 2025) EndedAt: 2025-08-15 11:02:28 -0400 (Fri, 15 Aug 2025) EllapsedTime: 790.2 seconds RetCode: 0 Status: OK PackageFile: mzR_2.43.1.zip PackageFileSize: 3.83 MiB