Package: mzID Version: 1.45.0 Command: E:\biocbuild\bbs-3.21-bioc\R\bin\R.exe CMD INSTALL mzID StartedAt: 2025-02-05 15:28:20 -0500 (Wed, 05 Feb 2025) EndedAt: 2025-02-05 15:28:37 -0500 (Wed, 05 Feb 2025) EllapsedTime: 17.5 seconds RetCode: 0 Status: OK