Package: mzID Version: 1.45.0 Command: chmod a+r mzID -R && E:\biocbuild\bbs-3.21-bioc\R\bin\R.exe CMD build --keep-empty-dirs --no-resave-data mzID StartedAt: 2025-02-02 20:15:36 -0500 (Sun, 02 Feb 2025) EndedAt: 2025-02-02 20:15:54 -0500 (Sun, 02 Feb 2025) EllapsedTime: 18.0 seconds RetCode: 0 Status: OK PackageFile: mzID_1.45.0.tar.gz PackageFileSize: 576.3 KiB