Package: mzID Version: 1.45.0 Command: /home/biocbuild/bbs-3.21-bioc/R/bin/R CMD INSTALL mzID StartedAt: 2025-02-05 15:06:10 -0500 (Wed, 05 Feb 2025) EndedAt: 2025-02-05 15:06:35 -0500 (Wed, 05 Feb 2025) EllapsedTime: 24.3 seconds RetCode: 0 Status: OK