Package: mzID Version: 1.45.0 Command: /Library/Frameworks/R.framework/Resources/bin/R CMD INSTALL mzID StartedAt: 2025-02-03 15:12:25 -0500 (Mon, 03 Feb 2025) EndedAt: 2025-02-03 15:12:46 -0500 (Mon, 03 Feb 2025) EllapsedTime: 21.5 seconds RetCode: 0 Status: OK