Package: mzID Version: 1.45.0 Command: /Library/Frameworks/R.framework/Resources/bin/R CMD check --install=check:mzID.install-out.txt --library=/Library/Frameworks/R.framework/Resources/library --no-vignettes --timings mzID_1.45.0.tar.gz StartedAt: 2025-02-03 22:03:01 -0500 (Mon, 03 Feb 2025) EndedAt: 2025-02-03 22:03:49 -0500 (Mon, 03 Feb 2025) EllapsedTime: 48.3 seconds RetCode: 0 Status: OK CheckDir: mzID.Rcheck Warnings: 0