Package: mzID Version: 1.45.0 Command: /Library/Frameworks/R.framework/Resources/bin/R CMD build --keep-empty-dirs --no-resave-data mzID StartedAt: 2025-02-03 17:40:43 -0500 (Mon, 03 Feb 2025) EndedAt: 2025-02-03 17:40:57 -0500 (Mon, 03 Feb 2025) EllapsedTime: 14.9 seconds RetCode: 0 Status: OK PackageFile: mzID_1.45.0.tar.gz PackageFileSize: 582.2 KiB