Package: mzID Version: 1.45.0 Command: rm -rf mzID.buildbin-libdir && mkdir mzID.buildbin-libdir && /Users/biocbuild/BBS/utils/build-universal.sh mzID_1.45.0.tar.gz /Library/Frameworks/R.framework/Resources/bin/R mzID.buildbin-libdir StartedAt: 2025-02-04 00:45:54 -0500 (Tue, 04 Feb 2025) EndedAt: 2025-02-04 00:46:05 -0500 (Tue, 04 Feb 2025) EllapsedTime: 10.3 seconds RetCode: 0 Status: OK PackageFile: mzID_1.45.0.tgz PackageFileSize: 832.3 KiB