Package: mzID Version: 1.45.0 Command: /Library/Frameworks/R.framework/Resources/bin/R CMD build --keep-empty-dirs --no-resave-data mzID StartedAt: 2025-02-05 17:06:59 -0500 (Wed, 05 Feb 2025) EndedAt: 2025-02-05 17:07:04 -0500 (Wed, 05 Feb 2025) EllapsedTime: 5.1 seconds RetCode: 0 Status: OK PackageFile: mzID_1.45.0.tar.gz PackageFileSize: 582.1 KiB