Package: mzID Version: 1.45.0 Command: rm -rf mzID.buildbin-libdir && mkdir mzID.buildbin-libdir && /Users/biocbuild/BBS/utils/build-universal.sh mzID_1.45.0.tar.gz /Library/Frameworks/R.framework/Resources/bin/R mzID.buildbin-libdir StartedAt: 2025-02-05 22:28:06 -0500 (Wed, 05 Feb 2025) EndedAt: 2025-02-05 22:28:09 -0500 (Wed, 05 Feb 2025) EllapsedTime: 3.0 seconds RetCode: 0 Status: OK PackageFile: mzID_1.45.0.tgz PackageFileSize: 832.6 KiB