Package: mygene Version: 1.45.0 Maintainer: Adam Mark, Cyrus Afrasiabi, Chunlei Wu MaintainerEmail: cwu at scripps.edu git_url: https://git.bioconductor.org/packages/mygene git_branch: devel git_last_commit: 66816e2 git_last_commit_date: 2025-04-15 10:36:27 -0400 (Tue, 15 Apr 2025)