Package: mutscan Version: 0.99.2 Command: /home/biocbuild/bbs-3.22-bioc/R/bin/R CMD INSTALL mutscan StartedAt: 2025-10-19 15:36:49 -0400 (Sun, 19 Oct 2025) EndedAt: 2025-10-19 15:37:46 -0400 (Sun, 19 Oct 2025) EllapsedTime: 57.9 seconds RetCode: 0 Status: OK