Package: mutscan Version: 0.99.2 Command: /home/biocbuild/bbs-3.22-bioc/R/bin/R CMD build --keep-empty-dirs --no-resave-data --md5 mutscan StartedAt: 2025-10-19 18:57:28 -0400 (Sun, 19 Oct 2025) EndedAt: 2025-10-19 18:58:53 -0400 (Sun, 19 Oct 2025) EllapsedTime: 85.1 seconds RetCode: 0 Status: OK PackageFile: mutscan_0.99.2.tar.gz PackageFileSize: 3.542 MiB