Package: musicatk Version: 2.3.1 Command: /home/biocbuild/R/R/bin/R CMD INSTALL musicatk StartedAt: 2025-10-06 21:21:58 -0000 (Mon, 06 Oct 2025) EndedAt: 2025-10-06 21:21:59 -0000 (Mon, 06 Oct 2025) EllapsedTime: 1.0 seconds RetCode: 1 Status: ERROR