Package: musicatk Version: 2.3.1 Command: F:\biocbuild\bbs-3.22-bioc\R\bin\R.exe CMD INSTALL musicatk StartedAt: 2025-08-14 17:05:28 -0400 (Thu, 14 Aug 2025) EndedAt: 2025-08-14 17:07:35 -0400 (Thu, 14 Aug 2025) EllapsedTime: 126.8 seconds RetCode: 0 Status: OK