Package: musicatk Version: 2.1.0 Command: E:\biocbuild\bbs-3.21-bioc\R\bin\R.exe CMD check --no-multiarch --install=check:musicatk.install-out.txt --library=E:\biocbuild\bbs-3.21-bioc\R\library --no-vignettes --timings musicatk_2.1.0.tar.gz StartedAt: 2025-02-04 03:56:25 -0500 (Tue, 04 Feb 2025) EndedAt: 2025-02-04 04:09:30 -0500 (Tue, 04 Feb 2025) EllapsedTime: 784.9 seconds RetCode: 0 Status: OK CheckDir: musicatk.Rcheck Warnings: 0