Package: musicatk Version: 2.1.0 Command: /home/biocbuild/bbs-3.21-bioc/R/bin/R CMD INSTALL musicatk StartedAt: 2025-02-03 16:07:02 -0500 (Mon, 03 Feb 2025) EndedAt: 2025-02-03 16:07:48 -0500 (Mon, 03 Feb 2025) EllapsedTime: 45.6 seconds RetCode: 0 Status: OK