Package: musicatk Version: 2.1.0 Command: /home/biocbuild/bbs-3.21-bioc/R/bin/R CMD build --keep-empty-dirs --no-resave-data musicatk StartedAt: 2025-02-03 18:30:59 -0500 (Mon, 03 Feb 2025) EndedAt: 2025-02-03 18:37:04 -0500 (Mon, 03 Feb 2025) EllapsedTime: 365.5 seconds RetCode: 0 Status: OK PackageFile: musicatk_2.1.0.tar.gz PackageFileSize: 3.079 MiB