Package: musicatk Version: 2.1.0 Command: /Library/Frameworks/R.framework/Resources/bin/R CMD INSTALL musicatk StartedAt: 2025-02-03 15:49:40 -0500 (Mon, 03 Feb 2025) EndedAt: 2025-02-03 15:50:34 -0500 (Mon, 03 Feb 2025) EllapsedTime: 54.5 seconds RetCode: 0 Status: OK